BEGIN:VCALENDAR
VERSION:2.0
PRODID:-//eventon.com NONSGML v1.0//EN
CALSCALE:GREGORIAN
METHOD:PUBLISH
BEGIN:VEVENT
UID:69e52370b2ac1
DTSTAMP:20260419T184816Z
DTSTART:20170909T170000Z
DTEND:20170909T235000Z
LOCATION:Circolo Sportivo Cistio loc. Cistio 39 – Vicchio
SUMMARY:Vicchio liberata!
DESCRIPTION:Nei primi mesi del &#8217;44 esisteva già un Comitato di Liber
 azione Nazionale (C.L.N.) di cui faceva parte anche un rappresentante dei c
 oloni a testimonianza dello stretto legame tra lotta partigiana e mondo con
 tadino che caratterizzò la resistenza mugellana e vicchiese. Il 25 febbrai
 o del &#8217;44 si riunirono sotto il palazzo[..]\nhttps://www.arcifirenze.
 it/events/vicchio-liberata/
URL:https://www.arcifirenze.it/events/vicchio-liberata/
END:VEVENT
END:VCALENDAR