BEGIN:VCALENDAR
VERSION:2.0
PRODID:-//eventon.com NONSGML v1.0//EN
CALSCALE:GREGORIAN
METHOD:PUBLISH
BEGIN:VEVENT
UID:69e54ec8948f7
DTSTAMP:20260419T215312Z
DTSTART:20170915T190000Z
DTEND:20170917T235900Z
LOCATION:Circolo ARCI Barberino di Mugello  Corso Corsini\,  59
SUMMARY:Liberamente Fest III
DESCRIPTION:Liberamente Festival III edizione  &nbsp; 15\,  16\,  17 sette
 mbre 2017 &nbsp; Programma &nbsp; ||| Venerdì 15 settembre ||| &nbsp; ore
  20:00 Apertura pizzeria &nbsp; Ore 21.30 Mattak &amp; Funky Nano DJ Sick B
 udd | live opening:  Bad Skillz + Co/smo/gonia + Col Nia &nbsp; ||| Sabato
  16 settembre ||| &nbsp; ore[..]\nhttps://www.arcifirenze.it/events/liberam
 ente-fest/
URL:https://www.arcifirenze.it/events/liberamente-fest/
END:VEVENT
END:VCALENDAR