BEGIN:VCALENDAR
VERSION:2.0
PRODID:-//eventon.com NONSGML v1.0//EN
CALSCALE:GREGORIAN
METHOD:PUBLISH
BEGIN:VEVENT
UID:69e4fb9dee0f3
DTSTAMP:20260419T155821Z
DTSTART:20170425T130000Z
DTEND:20170425T235000Z
LOCATION:Circolo Ricreativo Culturale Brozzi Via di Brozzi 312\,  Firenze
SUMMARY:Pranzo Partigiano
DESCRIPTION:Menù Antipasto toscano / Penne al sugo di pecora / Arrosto mis
 to / Contorno patate e insalata / Vino e acqua / Dolce &nbsp; in collaboraz
 ione con: ANPI sez. Brozzi-Quaracchi &#8220;L. Cherubini&#8221; &nbsp; ____
 ___________________________ Contributo € 15\, 00 a persona Prenotazioni e
 ntro domenica 23 aprile Partecipazione riservata ai soci Arci\nhttps://www.
 arcifirenze.it/events/festa-della-liberazione-3/
URL:https://www.arcifirenze.it/events/festa-della-liberazione-3/
END:VEVENT
END:VCALENDAR