BEGIN:VCALENDAR
VERSION:2.0
PRODID:-//eventon.com NONSGML v1.0//EN
CALSCALE:GREGORIAN
METHOD:PUBLISH
BEGIN:VEVENT
UID:69e639a36617c
DTSTAMP:20260420T143515Z
DTSTART:20260417T173000Z
DTEND:20260417T215900Z
LOCATION:S.M.S. di Peretola Via Pratese 48\,  Firenze
SUMMARY:CineForum
DESCRIPTION:CINEFORUM: Aperitivo e cinema assieme Alle 19:30 l&#8217;aperit
 ivo e alle 21:00 la proiezione! S.M.S. Peretola Venerdì 17 aprile\nhttps:/
 /www.arcifirenze.it/events/cineforum/
URL:https://www.arcifirenze.it/events/cineforum/
END:VEVENT
END:VCALENDAR