BEGIN:VCALENDAR
VERSION:2.0
PRODID:-//eventon.com NONSGML v1.0//EN
CALSCALE:GREGORIAN
METHOD:PUBLISH
BEGIN:VEVENT
UID:69e6395666aa4
DTSTAMP:20260420T143358Z
DTSTART:20260419T183000Z
DTEND:20260419T193000Z
LOCATION:Exfila Via Leto Casini 11\,  Firenze
SUMMARY:QUIET QUARTET & MERAZ LIVE
DESCRIPTION:Music Pool: Move On 2026 QUIET QUARTET &amp; MERAZ live ExFila 
 19/04/2026 ore 18:30 Biglietti: 12/10 euro + tessera Arci\nhttps://www.arci
 firenze.it/events/quiet-quartet-meraz-live/
URL:https://www.arcifirenze.it/events/quiet-quartet-meraz-live/
END:VEVENT
END:VCALENDAR