BEGIN:VCALENDAR
VERSION:2.0
PRODID:-//eventon.com NONSGML v1.0//EN
CALSCALE:GREGORIAN
METHOD:PUBLISH
BEGIN:VEVENT
UID:69e65929d429e
DTSTAMP:20260420T164945Z
DTSTART:20260425T081500Z
DTEND:20260425T100000Z
LOCATION:
SUMMARY:Lui\,  Enrico
DESCRIPTION:Con “Lui\,  Enrico” Anna Meacci affronta un monologo dove c
 i sono due vite che scorrono come binari paralleli: non si toccano mai\,  m
 a vanno nella stessa direzione. Da un lato un uomo che ha portato sulle spa
 lle il peso della storia\,  dall’altro un padre che ha scelto di vivere o
 gni[..]\nhttps://www.arcifirenze.it/events/lui-enrico/var/ri-1.l-L1
URL:https://www.arcifirenze.it/events/lui-enrico/var/ri-1.l-L1
END:VEVENT
END:VCALENDAR