BEGIN:VCALENDAR
VERSION:2.0
PRODID:-//eventon.com NONSGML v1.0//EN
CALSCALE:GREGORIAN
METHOD:PUBLISH
BEGIN:VEVENT
UID:69e4c9551df09
DTSTAMP:20260419T122349Z
DTSTART:20260417T183000Z
DTEND:20260417T215900Z
LOCATION:S.M.S. di Rifredi via Vittorio Emanuele II 303\,  Firenze
SUMMARY:CPPT - C'è un palco per te
DESCRIPTION:Nuovo appuntamento con CPPT &#8211; C&#8217;è un palco per te!
   Musica live alla SMS di Rifredi  Venerdì 17 aprile  ore 20:30Con: DIE
 GO PUZZO e SPRITZER BAND\nhttps://www.arcifirenze.it/events/cppt-ce-un-palc
 o-per-te/
URL:https://www.arcifirenze.it/events/cppt-ce-un-palco-per-te/
END:VEVENT
END:VCALENDAR