BEGIN:VCALENDAR
VERSION:2.0
PRODID:-//eventon.com NONSGML v1.0//EN
CALSCALE:GREGORIAN
METHOD:PUBLISH
BEGIN:VEVENT
UID:69e7afcea74df
DTSTAMP:20260421T171142Z
DTSTART:20260419T093000Z
DTEND:20260419T235900Z
LOCATION:Casa del Popolo di Balatro via di Balatro 10/14\,  Bagno a Ripoli
SUMMARY:Mercatino di primavera
DESCRIPTION:Mercatino di primavera all&#8217;aperto Potrete acquistare manu
 fatti di cucito\,  ricamo\,  bigiotteria\,  prodotti naturali e molto altro
 ! Domenica 19 aprile dalle 09:30 alle 17:30 Casa del Popolo di Balatro Per 
 informazioni: 328 318 76 14 (Marisa)\nhttps://www.arcifirenze.it/events/mer
 catino-di-primavera-2/
URL:https://www.arcifirenze.it/events/mercatino-di-primavera-2/
END:VEVENT
END:VCALENDAR