BEGIN:VCALENDAR
VERSION:2.0
PRODID:-//eventon.com NONSGML v1.0//EN
CALSCALE:GREGORIAN
METHOD:PUBLISH
BEGIN:VEVENT
UID:69e903d1a099e
DTSTAMP:20260422T172225Z
DTSTART:20260424T173000Z
DTEND:20260424T235900Z
LOCATION:Circolo ARCI Barberino di Mugello  Corso Corsini\,  59
SUMMARY:Le lezioni antifasciste di Gramsci e Gobetti
DESCRIPTION:Circolo Arci Bruno Baldini\,  Barberino di Mugello Venerdì 24 
 Aprile Alle ore 17:30 “Le lezioni antifasciste di Gramsci e Gobetti” co
 n gli interventi di Paolo Cocchi e Giovanni Gozzini. A seguire Pizzeria So
 ciale aperta\nhttps://www.arcifirenze.it/events/le-lezioni-antifasciste-di-
 gramsci-e-gobetti/
URL:https://www.arcifirenze.it/events/le-lezioni-antifasciste-di-gramsci-e-gobetti/
END:VEVENT
END:VCALENDAR