BEGIN:VCALENDAR
VERSION:2.0
PRODID:-//eventon.com NONSGML v1.0//EN
CALSCALE:GREGORIAN
METHOD:PUBLISH
BEGIN:VEVENT
UID:69e903e21857f
DTSTAMP:20260422T172242Z
DTSTART:20260424T210000Z
DTEND:20260424T235900Z
LOCATION:Arci Macondo Piazza Curtatone e Montanara\,  23 – Borgo San Lorenzo
SUMMARY:La resistenza dimenticata: Partigiani italiani in Montenegro
DESCRIPTION:Circolo Arci Macondo\,  Borgo San Lorenzo Venerdì 24 aprile Al
 le ore 21:15 Presentazione del libro “La resistenza dimenticata. Partigia
 ni italiani in Montenegro (19443-1945)”. Dialogo e discussione con l’au
 tore Eric Gobetti. A seguire visione del documentario “Partizani. La Resi
 stenza italiana in Montenegro”.\nhttps://www.arcifirenze.it/events/la-res
 istenza-dimenticata-partigiani-italiani-in-montenegro-19443-1945/
URL:https://www.arcifirenze.it/events/la-resistenza-dimenticata-partigiani-italiani-in-montenegro-19443-1945/
END:VEVENT
END:VCALENDAR