BEGIN:VCALENDAR
VERSION:2.0
PRODID:-//eventon.com NONSGML v1.0//EN
CALSCALE:GREGORIAN
METHOD:PUBLISH
BEGIN:VEVENT
UID:69e9041141a39
DTSTAMP:20260422T172329Z
DTSTART:20250412T193000Z
DTEND:20250412T215900Z
LOCATION:Exfila Via Leto Casini 11\,  Firenze
SUMMARY:SERANTA X EXFILA - LUCILLE DJ
DESCRIPTION:๐ฆ๐ฎ๐ฏ๐ฎ๐๐ผ ๐ญ๐ฎ ๐๐ฝ๐ฟ๐ถ๐น๐ฒ\,  ๐
 ๐ผ๐ฟ๐ป๐ฎ ๐น๐ฎ ๐ฆ๐ฒ๐ฟ๐๐ป๐๐ฎ: ๐๐ฐ๐ฎ๐
 ๐ฒ๐ป๐ฎ๐๐ถ ๐ฑ๐ฎ๐น ๐ฑ๐ถ๐๐ฎ๐ป๐ผ! La SerAnta all&
 #8217;Exfila nasce dallโidea di un gruppo di amiche e amici di rispondere
  allโinteresse ancora vivo (anche dopo gli anta) di partecipare a dance p
 arty\,  interesse troppo poco corrisposto dalla night life fiorentina\,  ed
  รจ dedicata ai nostalgici delle atmosfere[..]\nhttps://www.arcifirenze.it/
 events/seranta-x-exfila-lucille-dj/
URL:https://www.arcifirenze.it/events/seranta-x-exfila-lucille-dj/
END:VEVENT
END:VCALENDAR