BEGIN:VCALENDAR
VERSION:2.0
PRODID:-//eventon.com NONSGML v1.0//EN
CALSCALE:GREGORIAN
METHOD:PUBLISH
BEGIN:VEVENT
UID:69e92a95b73ad
DTSTAMP:20260422T200749Z
DTSTART:20260424T190000Z
DTEND:20260424T215900Z
LOCATION:Arci Macondo Piazza Curtatone e Montanara\,  23 – Borgo San Lorenzo
SUMMARY:Cavalli Mongoli Live
DESCRIPTION:Venerdì 24 Aprile Circolo Macondo Borgo San Lorenzo Cavalli Mo
 ngoli &#8211; Live Macondo I Cavalli Mongoli sono una band in grado di tras
 formare ogni concerto in un&#8217;esperienza surreale e delirante\,  al lim
 ite tra performance e rito collettivo. Ogni aspettativa è costantemente fa
 tta a pezzi\,  ogni concerto unico\,  irripetibile e spiazzante.[..]\nhttps
 ://www.arcifirenze.it/events/cavalli-mongoli-live/
URL:https://www.arcifirenze.it/events/cavalli-mongoli-live/
END:VEVENT
END:VCALENDAR