BEGIN:VCALENDAR
VERSION:2.0
PRODID:-//eventon.com NONSGML v1.0//EN
CALSCALE:GREGORIAN
METHOD:PUBLISH
BEGIN:VEVENT
UID:69e5fe6d91a42
DTSTAMP:20260420T102237Z
DTSTART:20221022T050000Z
DTEND:20221022T105000Z
LOCATION:Piazza Sant&#039;Ambrogio\,  Firenze Piazza Sant'Ambrogio\,  Firenze
SUMMARY:Manifestazione per la Pace
DESCRIPTION:La guerra in Ucraina prende giorno dopo giorno una piega sempre
  più preoccupante: la minaccia nucleare diventa reale\,  mentre la propaga
 nda di guerra parla di conquiste e arretramenti di eserciti come se si trat
 tasse di gioco. Mentre la crisi economica si abbatte sulle fasce più debol
 i delle popolazioni europee (aggravata[..]\nhttps://www.arcifirenze.it/even
 ts/manifestazione-la-pace/
URL:https://www.arcifirenze.it/events/manifestazione-la-pace/
END:VEVENT
END:VCALENDAR